BEGIN:VCALENDAR
VERSION:2.0
PRODID:-//DTU.dk//NONSGML DTU.dk//EN
CALSCALE:GREGORIAN
BEGIN:VEVENT
DTSTART:20150629T140000
DTEND:20150629T150000
SUMMARY:DCAMM Seminar - Two-Dimensional Materials: mechanical Stiffness, Strength and Reliability
DESCRIPTION:<p style="text-align: left;">A DCAMM seminar&nbsp;will be presented by </p>\n<p style="text-align: center;"><strong>Professor Jeffrey W. Kysar<br />\nDepartment of Mechanical Engineering<br />\nColumbia University, New York, USA<br />\n</strong><strong>\n<br />\n</strong></p>\n<p style="text-align: justify;"><strong>Abstract</strong>: <br />\n<br />\n<span>Two-dimensional materials are planar molecules of arbitrary extent that consist of one or possibly a few atomic layers. Graphene, the archetypal two-dimensional material, consists of a single close-packed array of carbon atoms. Another, molybdenum disulfide, consists </span><span>of three atomic layers: a close-packed array of molybdenum atoms sandwiched between two close-packed arrays of sulfur atoms. Two-dimensional materials have many potential applications due to their unique electronic, optical and mechanical properties. The focus of </span><span>this talk is on the mechanical properties of graphene and molybdenum disulfide. We will discuss methods to isolate two-dimensional materials via mechanical exfoliation and subsequently to make single crystal specimens via nanofabrication methods. An atomic force microscope or a nanoindenter is used to indent a freestanding circular film. The experimental results suggest the mechanically exfolia</span><span>ted single crystal materials to be free of defects. Thus, the breaking strengths of graphene and molybdenum disulfide represent their respective intrinsic strengths, or the maximum stress that a material theoretically can support. In fact the mechanical strength exhibited </span><span>by graphene is in excess of 100 GPa, making it the strongest material ever characterized. We will also discuss a multiscale model of </span><span>the stress-strain constitutive parameters of graphene and molybdenum disulfide based upon ab initio Density Functional Theory (DFT) calculations. The theory is implemented into the finite element method to validate the multiscale model against experiments. Finally, </span><span>we will discuss graphene grown by Chemical Vapor Deposition (CVD) using industrially scalable processes. The CVD grown graphene </span><span>is polycrystalline, yet upon optimization of the CVD parameters, the strength of the polycrystalline graphene can achieve a very high </span><span>fraction of the intrinsic strength of defect-free single crystal graphene.</span></p>\n<p style="text-align: justify;"><span> Danish pastry, coffee and tea will be served 15 minutes before the seminar starts.<br />\n&nbsp;&nbsp;</span><br />\nAll interested persons are invited</p>
X-ALT-DESC;FMTTYPE=text/html:<p style="text-align: left;">A DCAMM seminar&nbsp;will be presented by </p>\n<p style="text-align: center;"><strong>Professor Jeffrey W. Kysar<br />\nDepartment of Mechanical Engineering<br />\nColumbia University, New York, USA<br />\n</strong><strong>\n<br />\n</strong></p>\n<p style="text-align: justify;"><strong>Abstract</strong>: <br />\n<br />\n<span>Two-dimensional materials are planar molecules of arbitrary extent that consist of one or possibly a few atomic layers. Graphene, the archetypal two-dimensional material, consists of a single close-packed array of carbon atoms. Another, molybdenum disulfide, consists </span><span>of three atomic layers: a close-packed array of molybdenum atoms sandwiched between two close-packed arrays of sulfur atoms. Two-dimensional materials have many potential applications due to their unique electronic, optical and mechanical properties. The focus of </span><span>this talk is on the mechanical properties of graphene and molybdenum disulfide. We will discuss methods to isolate two-dimensional materials via mechanical exfoliation and subsequently to make single crystal specimens via nanofabrication methods. An atomic force microscope or a nanoindenter is used to indent a freestanding circular film. The experimental results suggest the mechanically exfolia</span><span>ted single crystal materials to be free of defects. Thus, the breaking strengths of graphene and molybdenum disulfide represent their respective intrinsic strengths, or the maximum stress that a material theoretically can support. In fact the mechanical strength exhibited </span><span>by graphene is in excess of 100 GPa, making it the strongest material ever characterized. We will also discuss a multiscale model of </span><span>the stress-strain constitutive parameters of graphene and molybdenum disulfide based upon ab initio Density Functional Theory (DFT) calculations. The theory is implemented into the finite element method to validate the multiscale model against experiments. Finally, </span><span>we will discuss graphene grown by Chemical Vapor Deposition (CVD) using industrially scalable processes. The CVD grown graphene </span><span>is polycrystalline, yet upon optimization of the CVD parameters, the strength of the polycrystalline graphene can achieve a very high </span><span>fraction of the intrinsic strength of defect-free single crystal graphene.</span></p>\n<p style="text-align: justify;"><span> Danish pastry, coffee and tea will be served 15 minutes before the seminar starts.<br />\n&nbsp;&nbsp;</span><br />\nAll interested persons are invited</p>

URL:http://www.dcamm.dk/kalender/2015/06/seminar_no_689
DTSTAMP:20260420T152600Z
UID:{AC8FFB27-A654-4E0A-BC2B-073C4096734C}-20150629T140000-20150629T140000
LOCATION: Room 105, Building 404, Technical University of Denmark
END:VEVENT
END:VCALENDAR